BEGIN:VCALENDAR
VERSION:2.0
PRODID:-//Tukios.com/
BEGIN:VEVENT
UID:3d1b3530-7f7f-4089-94c6-5346fb496c7b@www.hilligossshraderfh.com
DTSTAMP:20260422T020420Z
DTSTART:20260426T190000Z
DTEND:20260426T200000Z
SUMMARY:Funeral Service
DESCRIPTION:
URL:https://www.hilligossshraderfh.com/obituaries/rev-james-arbuckle-jr
LOCATION: 231 N Illinois  Atwood IL 61913
GEO:39.8018773;-88.464081
END:VEVENT
END:VCALENDAR