BEGIN:VCALENDAR
VERSION:2.0
PRODID:-//Tukios.com/
BEGIN:VEVENT
UID:fca866f7-7c65-4c4c-a24d-e0fff3a9ba5f@www.hilligossshraderfh.com
DTSTAMP:20260422T020344Z
DTSTART:20260426T180000Z
DTEND:20260426T190000Z
SUMMARY:Visitation
DESCRIPTION:
URL:https://www.hilligossshraderfh.com/obituaries/rev-james-arbuckle-jr
LOCATION: 231 N Illinois  Atwood IL 61913
GEO:39.8018773;-88.464081
END:VEVENT
END:VCALENDAR