BEGIN:VCALENDAR
VERSION:2.0
PRODID:-//Tukios.com/
BEGIN:VEVENT
UID:b5ad790e-3cee-4c9c-89a0-3483c9ab5c4d@www.hilligossshraderfh.com
DTSTAMP:20260421T044955Z
DTSTART:20260424T200000Z
DTEND:20260424T220000Z
SUMMARY:Informal Gathering
DESCRIPTION:
URL:https://www.hilligossshraderfh.com/obituaries/patti-lincoln-waters
LOCATION: 705 S Main St  Tuscola IL 61953
GEO:39.7925683;-88.287343
END:VEVENT
END:VCALENDAR