BEGIN:VCALENDAR
VERSION:2.0
PRODID:-//Tukios.com/
BEGIN:VEVENT
UID:a1ce720e-6ba9-47ad-b4f9-1e3053f6f6ab@www.hilligossshraderfh.com
DTSTAMP:20260422T005733Z
DTSTART:20260425T190000Z
DTEND:20260425T200000Z
SUMMARY:Graveside Service
DESCRIPTION:
URL:https://www.hilligossshraderfh.com/obituaries/lois-west
LOCATION: 1488 East 100 North Road  Atwood IL 61913
GEO:39.8069943;-88.4717329
END:VEVENT
END:VCALENDAR